BEGIN:VCALENDAR
VERSION:2.0
PRODID:-//Tecumseh Country Club - ECPv6.15.18//NONSGML v1.0//EN
CALSCALE:GREGORIAN
METHOD:PUBLISH
X-ORIGINAL-URL:https://www.golftecumsehcc.com
X-WR-CALDESC:Events for Tecumseh Country Club
REFRESH-INTERVAL;VALUE=DURATION:PT1H
X-Robots-Tag:noindex
X-PUBLISHED-TTL:PT1H
BEGIN:VTIMEZONE
TZID:UTC
BEGIN:STANDARD
TZOFFSETFROM:+0000
TZOFFSETTO:+0000
TZNAME:UTC
DTSTART:20250101T000000
END:STANDARD
END:VTIMEZONE
BEGIN:VEVENT
DTSTART;TZID=UTC:20260821T180000
DTEND;TZID=UTC:20260821T180000
DTSTAMP:20260422T223003
CREATED:20260218T182838Z
LAST-MODIFIED:20260218T182841Z
UID:10000022-1787335200-1787335200@www.golftecumsehcc.com
SUMMARY:Couples League Awards Night
DESCRIPTION:
URL:https://www.golftecumsehcc.com/event/couples-league-awards-night/
END:VEVENT
BEGIN:VEVENT
DTSTART;TZID=UTC:20260829T090000
DTEND;TZID=UTC:20260829T090000
DTSTAMP:20260422T223003
CREATED:20260218T183003Z
LAST-MODIFIED:20260218T183006Z
UID:10000023-1787994000-1787994000@www.golftecumsehcc.com
SUMMARY:Sterling Community Assoc. 4-Person Scramble
DESCRIPTION:Erika Thies
URL:https://www.golftecumsehcc.com/event/sterling-community-assoc-4-person-scramble/
END:VEVENT
BEGIN:VEVENT
DTSTART;TZID=UTC:20260904T090000
DTEND;TZID=UTC:20260904T090000
DTSTAMP:20260422T223003
CREATED:20260218T183115Z
LAST-MODIFIED:20260218T183119Z
UID:10000024-1788512400-1788512400@www.golftecumsehcc.com
SUMMARY:JCC Cross Country Invitational
DESCRIPTION:
URL:https://www.golftecumsehcc.com/event/jcc-cross-country-invitational/
END:VEVENT
BEGIN:VEVENT
DTSTART;TZID=UTC:20260917T090000
DTEND;TZID=UTC:20260917T090000
DTSTAMP:20260422T223003
CREATED:20260218T183224Z
LAST-MODIFIED:20260218T183227Z
UID:10000025-1789635600-1789635600@www.golftecumsehcc.com
SUMMARY:JCC Girls Golf Invitational
DESCRIPTION:
URL:https://www.golftecumsehcc.com/event/jcc-girls-golf-invitational/
END:VEVENT
BEGIN:VEVENT
DTSTART;TZID=UTC:20260926T090000
DTEND;TZID=UTC:20260926T090000
DTSTAMP:20260422T223003
CREATED:20260218T183333Z
LAST-MODIFIED:20260218T183336Z
UID:10000026-1790413200-1790413200@www.golftecumsehcc.com
SUMMARY:Thunderbird Classic 4-Person Scramble
DESCRIPTION:Ben Swanson & Jon Rother
URL:https://www.golftecumsehcc.com/event/thunderbird-classic-4-person-scramble/
END:VEVENT
BEGIN:VEVENT
DTSTART;TZID=UTC:20261115T140000
DTEND;TZID=UTC:20261115T140000
DTSTAMP:20260422T223003
CREATED:20260218T183428Z
LAST-MODIFIED:20260218T183431Z
UID:10000027-1794751200-1794751200@www.golftecumsehcc.com
SUMMARY:Annual Meeting
DESCRIPTION:
URL:https://www.golftecumsehcc.com/event/annual-meeting/
END:VEVENT
END:VCALENDAR